BEGIN:VCALENDAR
VERSION:2.0
PRODID:-//IWWF Asia - ECPv6.15.20//NONSGML v1.0//EN
CALSCALE:GREGORIAN
METHOD:PUBLISH
X-ORIGINAL-URL:https://iwwf.asia
X-WR-CALDESC:Events for IWWF Asia
REFRESH-INTERVAL;VALUE=DURATION:PT1H
X-Robots-Tag:noindex
X-PUBLISHED-TTL:PT1H
BEGIN:VTIMEZONE
TZID:UTC
BEGIN:STANDARD
TZOFFSETFROM:+0000
TZOFFSETTO:+0000
TZNAME:UTC
DTSTART:20230101T000000
END:STANDARD
END:VTIMEZONE
BEGIN:VEVENT
DTSTART;TZID=UTC:20240510T073000
DTEND;TZID=UTC:20240512T180000
DTSTAMP:20260419T234648
CREATED:20240422T062555Z
LAST-MODIFIED:20240515T061513Z
UID:2483-1715326200-1715536800@iwwf.asia
SUMMARY:2024 Ras Al Khaimah Waterski & Wakesports Championships
DESCRIPTION:The Ras Al Khaimah International Marine Sports Club ran the UAE’s first combined waterski\, wakeboard and wakesurf event from 10th to 12th May 2024 at its venue in Ras Al Khaimah. \nFinal Results\n \n\nWaterski Slalom\n\nWakeboard\nWakesurf\n\n\nPhoto Galleries\nAwards Ceremony\nFaces\nAction – coming soon \nLive Streaming\n \n\nDay 1\nDay 2\nDay 2.1\nAwards Ceremony\n\n \nBoats\nWaterski – Nautique 200\nWakeboard & Wakesurf – Mastercraft X22 \nInformation Bulletin 2 – download here \nRules: \n\nIWWF Asian Waterski Rules\nIWWF Asian Wakeboard Rules\nIWWF Asian Wakesurf Rules\n\n \n \n  \n 
URL:https://iwwf.asia/event/2024-ras-al-khaimah-waterski-wakesports-championships-2/
LOCATION:Ras Al Khaimah\, Dafan Al Khor\, Ras Al Khaimah\, Dafan Al Khor\, United Arab Emirates
CATEGORIES:Wakeboard Events,Wakesurf Events,Waterski Events
ATTACH;FMTTYPE=image/jpeg:https://iwwf.asia/wp-content/uploads/2024/04/2024-RAKIMC-Champs-logo.jpg
ORGANIZER;CN="IWWF Asia":MAILTO:info@iwwf.asia
END:VEVENT
END:VCALENDAR